{"text_format":"3","workbook":"xlsx","n_sheets":1,"sheets":["2112"],"not_rendered":{"external_links":1,"defined_names":2},"read":"whole","date_system":"1900"}

{"sheet":"2112","index":0,"n_rows":135,"n_cols":6,"rows_kept":135,"merged":[[1,0,1,5]]}
["附件1"]
["望谟县2024年公开招聘事业单位工作人员资格复审名单"]
["准考证号","姓名","招考单位名称","岗位代码","岗位名称","是否进入资格复审"]
["1152231601112","孟林",{"$f":"VLOOKUP(D4,[1]Sheet2!$B:$E,2,0)","v":"中共望谟县委办公室"},22328480101,{"$f":"VLOOKUP(D4,[1]Sheet2!$B:$E,4,0)","v":"县委信息中心"},"是"]
["1152231604402","贺明娅",{"$f":"VLOOKUP(D5,[1]Sheet2!$B:$E,2,0)","v":"中共望谟县委办公室"},22328480101,{"$f":"VLOOKUP(D5,[1]Sheet2!$B:$E,4,0)","v":"县委信息中心"},"是"]
["1152231603717","王先宏",{"$f":"VLOOKUP(D6,[1]Sheet2!$B:$E,2,0)","v":"中共望谟县委办公室"},22328480101,{"$f":"VLOOKUP(D6,[1]Sheet2!$B:$E,4,0)","v":"县委信息中心"},"是"]
["1152231603401","袁颖盼",{"$f":"VLOOKUP(D7,[1]Sheet2!$B:$E,2,0)","v":"中共望谟县委办公室"},22328480101,{"$f":"VLOOKUP(D7,[1]Sheet2!$B:$E,4,0)","v":"县委信息中心"},"是"]
["1152231602301","杨旭",{"$f":"VLOOKUP(D8,[1]Sheet2!$B:$E,2,0)","v":"中共望谟县委办公室"},22328480101,{"$f":"VLOOKUP(D8,[1]Sheet2!$B:$E,4,0)","v":"县委信息中心"},"是"]
["1152231603721","刘大梦",{"$f":"VLOOKUP(D9,[1]Sheet2!$B:$E,2,0)","v":"中共望谟县委办公室"},22328480101,{"$f":"VLOOKUP(D9,[1]Sheet2!$B:$E,4,0)","v":"县委信息中心"},"是"]
["1152231601914","王晶晶",{"$f":"VLOOKUP(D10,[1]Sheet2!$B:$E,2,0)","v":"中共望谟县委组织部"},22328480201,{"$f":"VLOOKUP(D10,[1]Sheet2!$B:$E,4,0)","v":"综合服务中心"},"是"]
["1152231601426","陈洪",{"$f":"VLOOKUP(D11,[1]Sheet2!$B:$E,2,0)","v":"中共望谟县委组织部"},22328480201,{"$f":"VLOOKUP(D11,[1]Sheet2!$B:$E,4,0)","v":"综合服务中心"},"是"]
["1152231601610","毛玉莹",{"$f":"VLOOKUP(D12,[1]Sheet2!$B:$E,2,0)","v":"中共望谟县委组织部"},22328480201,{"$f":"VLOOKUP(D12,[1]Sheet2!$B:$E,4,0)","v":"综合服务中心"},"是"]
["1152231601617","龚平",{"$f":"VLOOKUP(D13,[1]Sheet2!$B:$E,2,0)","v":"望谟县人民政府办公室"},22328480301,{"$f":"VLOOKUP(D13,[1]Sheet2!$B:$E,4,0)","v":"政务服务中心业务股"},"是"]
["1152231604125","罗桓",{"$f":"VLOOKUP(D14,[1]Sheet2!$B:$E,2,0)","v":"望谟县人民政府办公室"},22328480301,{"$f":"VLOOKUP(D14,[1]Sheet2!$B:$E,4,0)","v":"政务服务中心业务股"},"是"]
["1152231600719","卢州州",{"$f":"VLOOKUP(D15,[1]Sheet2!$B:$E,2,0)","v":"望谟县人民政府办公室"},22328480301,{"$f":"VLOOKUP(D15,[1]Sheet2!$B:$E,4,0)","v":"政务服务中心业务股"},"是"]
["1152231604427","梁镇南",{"$f":"VLOOKUP(D16,[1]Sheet2!$B:$E,2,0)","v":"望谟县人民政府办公室"},22328480302,{"$f":"VLOOKUP(D16,[1]Sheet2!$B:$E,4,0)","v":"政府电子政务服务中心"},"是"]
["1152231601724","余春宏",{"$f":"VLOOKUP(D17,[1]Sheet2!$B:$E,2,0)","v":"望谟县人民政府办公室"},22328480302,{"$f":"VLOOKUP(D17,[1]Sheet2!$B:$E,4,0)","v":"政府电子政务服务中心"},"是"]
["1152231603116","蔡文山",{"$f":"VLOOKUP(D18,[1]Sheet2!$B:$E,2,0)","v":"望谟县人民政府办公室"},22328480302,{"$f":"VLOOKUP(D18,[1]Sheet2!$B:$E,4,0)","v":"政府电子政务服务中心"},"是"]
["1152231602923","黄凤慢",{"$f":"VLOOKUP(D19,[1]Sheet2!$B:$E,2,0)","v":"望谟县人民政府办公室"},22328480302,{"$f":"VLOOKUP(D19,[1]Sheet2!$B:$E,4,0)","v":"政府电子政务服务中心"},"是"]
["1152231601408","罗冰淦",{"$f":"VLOOKUP(D20,[1]Sheet2!$B:$E,2,0)","v":"中共望谟县委政法委员会"},22328480401,{"$f":"VLOOKUP(D20,[1]Sheet2!$B:$E,4,0)","v":"综合服务中心"},"是"]
["1152231604322","曾莉",{"$f":"VLOOKUP(D21,[1]Sheet2!$B:$E,2,0)","v":"中共望谟县委政法委员会"},22328480401,{"$f":"VLOOKUP(D21,[1]Sheet2!$B:$E,4,0)","v":"综合服务中心"},"是"]
["1152231601416","张黎明",{"$f":"VLOOKUP(D22,[1]Sheet2!$B:$E,2,0)","v":"中共望谟县委政法委员会"},22328480401,{"$f":"VLOOKUP(D22,[1]Sheet2!$B:$E,4,0)","v":"综合服务中心"},"是"]
["1152231601526","李宇佳",{"$f":"VLOOKUP(D23,[1]Sheet2!$B:$E,2,0)","v":"中共望谟县委党校"},22328480501,{"$f":"VLOOKUP(D23,[1]Sheet2!$B:$E,4,0)","v":"教师"},"是"]
["1152231600705","陈静茹",{"$f":"VLOOKUP(D24,[1]Sheet2!$B:$E,2,0)","v":"中共望谟县委党校"},22328480501,{"$f":"VLOOKUP(D24,[1]Sheet2!$B:$E,4,0)","v":"教师"},"是"]
["1152231601312","谢凌芮",{"$f":"VLOOKUP(D25,[1]Sheet2!$B:$E,2,0)","v":"中共望谟县委党校"},22328480501,{"$f":"VLOOKUP(D25,[1]Sheet2!$B:$E,4,0)","v":"教师"},"是"]
["1152231601025","赵迎新",{"$f":"VLOOKUP(D26,[1]Sheet2!$B:$E,2,0)","v":"中共望谟县委党校"},22328480502,{"$f":"VLOOKUP(D26,[1]Sheet2!$B:$E,4,0)","v":"教师"},"是"]
["1152231601020","韦凤",{"$f":"VLOOKUP(D27,[1]Sheet2!$B:$E,2,0)","v":"中共望谟县委党校"},22328480502,{"$f":"VLOOKUP(D27,[1]Sheet2!$B:$E,4,0)","v":"教师"},"是"]
["1152231602202","周康祺",{"$f":"VLOOKUP(D28,[1]Sheet2!$B:$E,2,0)","v":"中共望谟县委党校"},22328480502,{"$f":"VLOOKUP(D28,[1]Sheet2!$B:$E,4,0)","v":"教师"},"是"]
["1152231601015","杨胜港",{"$f":"VLOOKUP(D29,[1]Sheet2!$B:$E,2,0)","v":"望谟县统计局"},22328480601,{"$f":"VLOOKUP(D29,[1]Sheet2!$B:$E,4,0)","v":"统计服务中心"},"是"]
["1152231602922","田景鹏",{"$f":"VLOOKUP(D30,[1]Sheet2!$B:$E,2,0)","v":"望谟县统计局"},22328480601,{"$f":"VLOOKUP(D30,[1]Sheet2!$B:$E,4,0)","v":"统计服务中心"},"是"]
["1152231600811","甘安燕",{"$f":"VLOOKUP(D31,[1]Sheet2!$B:$E,2,0)","v":"望谟县统计局"},22328480601,{"$f":"VLOOKUP(D31,[1]Sheet2!$B:$E,4,0)","v":"统计服务中心"},"是"]
["1152231604721","胡涛涛",{"$f":"VLOOKUP(D32,[1]Sheet2!$B:$E,2,0)","v":"望谟县文体广电旅游局"},22328480801,{"$f":"VLOOKUP(D32,[1]Sheet2!$B:$E,4,0)","v":"体育事业管理中心"},"是"]
["1152231602627","彭元勋",{"$f":"VLOOKUP(D33,[1]Sheet2!$B:$E,2,0)","v":"望谟县文体广电旅游局"},22328480801,{"$f":"VLOOKUP(D33,[1]Sheet2!$B:$E,4,0)","v":"体育事业管理中心"},"是"]
["1152231604719","王定娜",{"$f":"VLOOKUP(D34,[1]Sheet2!$B:$E,2,0)","v":"望谟县应急管理局"},22328480901,{"$f":"VLOOKUP(D34,[1]Sheet2!$B:$E,4,0)","v":"自然灾害监测中心"},"是"]
["1152231600616","韦晓雨",{"$f":"VLOOKUP(D35,[1]Sheet2!$B:$E,2,0)","v":"望谟县应急管理局"},22328480901,{"$f":"VLOOKUP(D35,[1]Sheet2!$B:$E,4,0)","v":"自然灾害监测中心"},"是"]
["1152231605024","陈镇",{"$f":"VLOOKUP(D36,[1]Sheet2!$B:$E,2,0)","v":"望谟县应急管理局"},22328480901,{"$f":"VLOOKUP(D36,[1]Sheet2!$B:$E,4,0)","v":"自然灾害监测中心"},"是"]
["1152231602526","刘京",{"$f":"VLOOKUP(D37,[1]Sheet2!$B:$E,2,0)","v":"望谟县史志办公室"},22328481001,{"$f":"VLOOKUP(D37,[1]Sheet2!$B:$E,4,0)","v":"革命遗址保护利用中心"},"是"]
["1152231602330","蒙欣欣",{"$f":"VLOOKUP(D38,[1]Sheet2!$B:$E,2,0)","v":"望谟县史志办公室"},22328481001,{"$f":"VLOOKUP(D38,[1]Sheet2!$B:$E,4,0)","v":"革命遗址保护利用中心"},"是"]
["1152231605114","简高颖",{"$f":"VLOOKUP(D39,[1]Sheet2!$B:$E,2,0)","v":"望谟县林业局"},22328481101,{"$f":"VLOOKUP(D39,[1]Sheet2!$B:$E,4,0)","v":"林业发展服务中心营林股"},"是"]
["1152231603029","刘康",{"$f":"VLOOKUP(D40,[1]Sheet2!$B:$E,2,0)","v":"望谟县林业局"},22328481101,{"$f":"VLOOKUP(D40,[1]Sheet2!$B:$E,4,0)","v":"林业发展服务中心营林股"},"是"]
["1152231605311","张钦",{"$f":"VLOOKUP(D41,[1]Sheet2!$B:$E,2,0)","v":"望谟县农业农村局"},22328481202,{"$f":"VLOOKUP(D41,[1]Sheet2!$B:$E,4,0)","v":"农业技术推广中心农业培训与科技教育股"},"是"]
["1152231604503","罗家娇",{"$f":"VLOOKUP(D42,[1]Sheet2!$B:$E,2,0)","v":"望谟县农业农村局"},22328481202,{"$f":"VLOOKUP(D42,[1]Sheet2!$B:$E,4,0)","v":"农业技术推广中心农业培训与科技教育股"},"是"]
["1152231600606","左修齐",{"$f":"VLOOKUP(D43,[1]Sheet2!$B:$E,2,0)","v":"望谟县农业农村局"},22328481202,{"$f":"VLOOKUP(D43,[1]Sheet2!$B:$E,4,0)","v":"农业技术推广中心农业培训与科技教育股"},"是"]
["1152231603713","张颖",{"$f":"VLOOKUP(D44,[1]Sheet2!$B:$E,2,0)","v":"望谟县农业农村局"},22328481203,{"$f":"VLOOKUP(D44,[1]Sheet2!$B:$E,4,0)","v":"农业农村发展中心农村经营体系指导股"},"是"]
["1152231604710","陶传艺",{"$f":"VLOOKUP(D45,[1]Sheet2!$B:$E,2,0)","v":"望谟县农业农村局"},22328481203,{"$f":"VLOOKUP(D45,[1]Sheet2!$B:$E,4,0)","v":"农业农村发展中心农村经营体系指导股"},"是"]
["1152231603820","李文章",{"$f":"VLOOKUP(D46,[1]Sheet2!$B:$E,2,0)","v":"望谟县农业农村局"},22328481203,{"$f":"VLOOKUP(D46,[1]Sheet2!$B:$E,4,0)","v":"农业农村发展中心农村经营体系指导股"},"是"]
["1152231603910","吴波林",{"$f":"VLOOKUP(D47,[1]Sheet2!$B:$E,2,0)","v":"望谟县发展和改革局"},22328481301,{"$f":"VLOOKUP(D47,[1]Sheet2!$B:$E,4,0)","v":"国防动员建设服务中心"},"是"]
["1152231605018","尤祯丽",{"$f":"VLOOKUP(D48,[1]Sheet2!$B:$E,2,0)","v":"望谟县发展和改革局"},22328481301,{"$f":"VLOOKUP(D48,[1]Sheet2!$B:$E,4,0)","v":"国防动员建设服务中心"},"是"]
["1152231601525","韦国伟",{"$f":"VLOOKUP(D49,[1]Sheet2!$B:$E,2,0)","v":"望谟县发展和改革局"},22328481301,{"$f":"VLOOKUP(D49,[1]Sheet2!$B:$E,4,0)","v":"国防动员建设服务中心"},"是"]
["1152231601513","潘帅",{"$f":"VLOOKUP(D50,[1]Sheet2!$B:$E,2,0)","v":"望谟县发展和改革局"},22328481302,{"$f":"VLOOKUP(D50,[1]Sheet2!$B:$E,4,0)","v":"铁路港口发展中心"},"是"]
["1152231603022","张勇",{"$f":"VLOOKUP(D51,[1]Sheet2!$B:$E,2,0)","v":"望谟县发展和改革局"},22328481302,{"$f":"VLOOKUP(D51,[1]Sheet2!$B:$E,4,0)","v":"铁路港口发展中心"},"是"]
["1152231602305","陈珊珊",{"$f":"VLOOKUP(D52,[1]Sheet2!$B:$E,2,0)","v":"望谟县发展和改革局"},22328481302,{"$f":"VLOOKUP(D52,[1]Sheet2!$B:$E,4,0)","v":"铁路港口发展中心"},"是"]
["1152231601403","吴远川",{"$f":"VLOOKUP(D53,[1]Sheet2!$B:$E,2,0)","v":"望谟县发展和改革局"},22328481303,{"$f":"VLOOKUP(D53,[1]Sheet2!$B:$E,4,0)","v":"投资促进中心招商引资股"},"是"]
["1152231601517","许亮",{"$f":"VLOOKUP(D54,[1]Sheet2!$B:$E,2,0)","v":"望谟县发展和改革局"},22328481303,{"$f":"VLOOKUP(D54,[1]Sheet2!$B:$E,4,0)","v":"投资促进中心招商引资股"},"是"]
["1152231601029","班正轩",{"$f":"VLOOKUP(D55,[1]Sheet2!$B:$E,2,0)","v":"望谟县发展和改革局"},22328481303,{"$f":"VLOOKUP(D55,[1]Sheet2!$B:$E,4,0)","v":"投资促进中心招商引资股"},"是"]
["1152231604006","梁雕龙",{"$f":"VLOOKUP(D56,[1]Sheet2!$B:$E,2,0)","v":"望谟县住房和城乡建设局"},22328481401,{"$f":"VLOOKUP(D56,[1]Sheet2!$B:$E,4,0)","v":"住房和城乡建设发展中心燃气管理股"},"是"]
["1152231604515","黄霞霞",{"$f":"VLOOKUP(D57,[1]Sheet2!$B:$E,2,0)","v":"望谟县住房和城乡建设局"},22328481401,{"$f":"VLOOKUP(D57,[1]Sheet2!$B:$E,4,0)","v":"住房和城乡建设发展中心燃气管理股"},"是"]
["1152231605009","何英",{"$f":"VLOOKUP(D58,[1]Sheet2!$B:$E,2,0)","v":"望谟县住房和城乡建设局"},22328481401,{"$f":"VLOOKUP(D58,[1]Sheet2!$B:$E,4,0)","v":"住房和城乡建设发展中心燃气管理股"},"是"]
["1152231604403","白高任",{"$f":"VLOOKUP(D59,[1]Sheet2!$B:$E,2,0)","v":"望谟县民政局"},22328481501,{"$f":"VLOOKUP(D59,[1]Sheet2!$B:$E,4,0)","v":"儿童福利院"},"是"]
["1152231602411","张倩倩",{"$f":"VLOOKUP(D60,[1]Sheet2!$B:$E,2,0)","v":"望谟县民政局"},22328481501,{"$f":"VLOOKUP(D60,[1]Sheet2!$B:$E,4,0)","v":"儿童福利院"},"是"]
["1152231602323","黄禹婉",{"$f":"VLOOKUP(D61,[1]Sheet2!$B:$E,2,0)","v":"望谟县民政局"},22328481501,{"$f":"VLOOKUP(D61,[1]Sheet2!$B:$E,4,0)","v":"儿童福利院"},"是"]
["1152231603024","李叶欢",{"$f":"VLOOKUP(D62,[1]Sheet2!$B:$E,2,0)","v":"望谟县工业和科学技术局"},22328481601,{"$f":"VLOOKUP(D62,[1]Sheet2!$B:$E,4,0)","v":"综合运行服务中心工业股"},"是"]
["1152231601429","王清",{"$f":"VLOOKUP(D63,[1]Sheet2!$B:$E,2,0)","v":"望谟县工业和科学技术局"},22328481601,{"$f":"VLOOKUP(D63,[1]Sheet2!$B:$E,4,0)","v":"综合运行服务中心工业股"},"是"]
["1152231603023","李俊钦",{"$f":"VLOOKUP(D64,[1]Sheet2!$B:$E,2,0)","v":"望谟县工业和科学技术局"},22328481601,{"$f":"VLOOKUP(D64,[1]Sheet2!$B:$E,4,0)","v":"综合运行服务中心工业股"},"是"]
["1152231604315","李娟娟",{"$f":"VLOOKUP(D65,[1]Sheet2!$B:$E,2,0)","v":"望谟县司法局"},22328481701,{"$f":"VLOOKUP(D65,[1]Sheet2!$B:$E,4,0)","v":"法律援助中心"},"是"]
["1152231600313","冉雨",{"$f":"VLOOKUP(D66,[1]Sheet2!$B:$E,2,0)","v":"望谟县司法局"},22328481701,{"$f":"VLOOKUP(D66,[1]Sheet2!$B:$E,4,0)","v":"法律援助中心"},"是"]
["1152231604704","肖龙江",{"$f":"VLOOKUP(D67,[1]Sheet2!$B:$E,2,0)","v":"望谟县司法局"},22328481701,{"$f":"VLOOKUP(D67,[1]Sheet2!$B:$E,4,0)","v":"法律援助中心"},"是"]
["1152231604225","吴凌芸",{"$f":"VLOOKUP(D68,[1]Sheet2!$B:$E,2,0)","v":"共青团望谟县委"},22328481801,{"$f":"VLOOKUP(D68,[1]Sheet2!$B:$E,4,0)","v":"春晖行动发展中心"},"是"]
["1152231801811","敖登高娃",{"$f":"VLOOKUP(D69,[1]Sheet2!$B:$E,2,0)","v":"共青团望谟县委"},22328481801,{"$f":"VLOOKUP(D69,[1]Sheet2!$B:$E,4,0)","v":"春晖行动发展中心"},"是"]
["1152231802225","汤涛",{"$f":"VLOOKUP(D70,[1]Sheet2!$B:$E,2,0)","v":"共青团望谟县委"},22328481801,{"$f":"VLOOKUP(D70,[1]Sheet2!$B:$E,4,0)","v":"春晖行动发展中心"},"是"]
["1152231801908","王封兰",{"$f":"VLOOKUP(D71,[1]Sheet2!$B:$E,2,0)","v":"望谟县水务局"},22328481901,{"$f":"VLOOKUP(D71,[1]Sheet2!$B:$E,4,0)","v":"水利资源开发建设中心"},"是"]
["1152231801119","张思童",{"$f":"VLOOKUP(D72,[1]Sheet2!$B:$E,2,0)","v":"望谟县水务局"},22328481901,{"$f":"VLOOKUP(D72,[1]Sheet2!$B:$E,4,0)","v":"水利资源开发建设中心"},"是"]
["1152231802823","李斌",{"$f":"VLOOKUP(D73,[1]Sheet2!$B:$E,2,0)","v":"望谟县水务局"},22328481901,{"$f":"VLOOKUP(D73,[1]Sheet2!$B:$E,4,0)","v":"水利资源开发建设中心"},"是"]
["1152231800328","甄克松",{"$f":"VLOOKUP(D74,[1]Sheet2!$B:$E,2,0)","v":"望谟县水务局"},22328481903,{"$f":"VLOOKUP(D74,[1]Sheet2!$B:$E,4,0)","v":"蔗香片区水务站"},"是"]
["1152231802108","农满耍",{"$f":"VLOOKUP(D75,[1]Sheet2!$B:$E,2,0)","v":"望谟县自然资源局"},22328482001,{"$f":"VLOOKUP(D75,[1]Sheet2!$B:$E,4,0)","v":"新屯街道自然资源所"},"是"]
["1152231800806","王韦",{"$f":"VLOOKUP(D76,[1]Sheet2!$B:$E,2,0)","v":"望谟县自然资源局"},22328482002,{"$f":"VLOOKUP(D76,[1]Sheet2!$B:$E,4,0)","v":"平洞街道自然资源所"},"是"]
["1152231801717","罗王",{"$f":"VLOOKUP(D77,[1]Sheet2!$B:$E,2,0)","v":"望谟县自然资源局"},22328482002,{"$f":"VLOOKUP(D77,[1]Sheet2!$B:$E,4,0)","v":"平洞街道自然资源所"},"是"]
["1152231801719","廖世涛",{"$f":"VLOOKUP(D78,[1]Sheet2!$B:$E,2,0)","v":"望谟县自然资源局"},22328482002,{"$f":"VLOOKUP(D78,[1]Sheet2!$B:$E,4,0)","v":"平洞街道自然资源所"},"是"]
["1152231802616","杨东昌",{"$f":"VLOOKUP(D79,[1]Sheet2!$B:$E,2,0)","v":"望谟县自然资源局"},22328482003,{"$f":"VLOOKUP(D79,[1]Sheet2!$B:$E,4,0)","v":"王母街道自然资源所"},"是"]
["1152231800821","姚秀花",{"$f":"VLOOKUP(D80,[1]Sheet2!$B:$E,2,0)","v":"望谟县自然资源局"},22328482003,{"$f":"VLOOKUP(D80,[1]Sheet2!$B:$E,4,0)","v":"王母街道自然资源所"},"是"]
["1152231800329","韦哈",{"$f":"VLOOKUP(D81,[1]Sheet2!$B:$E,2,0)","v":"望谟县自然资源局"},22328482003,{"$f":"VLOOKUP(D81,[1]Sheet2!$B:$E,4,0)","v":"王母街道自然资源所"},"是"]
["1152231802104","张玉飘",{"$f":"VLOOKUP(D82,[1]Sheet2!$B:$E,2,0)","v":"望谟县王母街道办事处"},22328482101,{"$f":"VLOOKUP(D82,[1]Sheet2!$B:$E,4,0)","v":"党务政务综合服务中心"},"是"]
["1152231801322","马传浩",{"$f":"VLOOKUP(D83,[1]Sheet2!$B:$E,2,0)","v":"望谟县平洞街道办事处"},22328482202,{"$f":"VLOOKUP(D83,[1]Sheet2!$B:$E,4,0)","v":"党务政务综合服务中心"},"是"]
["1152231800406","李飞霞",{"$f":"VLOOKUP(D84,[1]Sheet2!$B:$E,2,0)","v":"望谟县平洞街道办事处"},22328482202,{"$f":"VLOOKUP(D84,[1]Sheet2!$B:$E,4,0)","v":"党务政务综合服务中心"},"是"]
["1152231800113","王长秀",{"$f":"VLOOKUP(D85,[1]Sheet2!$B:$E,2,0)","v":"望谟县平洞街道办事处"},22328482202,{"$f":"VLOOKUP(D85,[1]Sheet2!$B:$E,4,0)","v":"党务政务综合服务中心"},"是"]
["1152231800820","柏雪芳",{"$f":"VLOOKUP(D86,[1]Sheet2!$B:$E,2,0)","v":"望谟县蟠桃街道办事处"},22328482301,{"$f":"VLOOKUP(D86,[1]Sheet2!$B:$E,4,0)","v":"新市民综合服务中心"},"是"]
["1152231801617","韦晶晶",{"$f":"VLOOKUP(D87,[1]Sheet2!$B:$E,2,0)","v":"望谟县蟠桃街道办事处"},22328482301,{"$f":"VLOOKUP(D87,[1]Sheet2!$B:$E,4,0)","v":"新市民综合服务中心"},"是"]
["1152232003012","杨帆",{"$f":"VLOOKUP(D88,[1]Sheet2!$B:$E,2,0)","v":"望谟县蟠桃街道办事处"},22328482301,{"$f":"VLOOKUP(D88,[1]Sheet2!$B:$E,4,0)","v":"新市民综合服务中心"},"是"]
["1152232001922","梁钰",{"$f":"VLOOKUP(D89,[1]Sheet2!$B:$E,2,0)","v":"望谟县蟠桃街道办事处"},22328482302,{"$f":"VLOOKUP(D89,[1]Sheet2!$B:$E,4,0)","v":"农业综合服务中心"},"是"]
["1152232001629","罗淑",{"$f":"VLOOKUP(D90,[1]Sheet2!$B:$E,2,0)","v":"望谟县蟠桃街道办事处"},22328482302,{"$f":"VLOOKUP(D90,[1]Sheet2!$B:$E,4,0)","v":"农业综合服务中心"},"是"]
["1152232001907","杨超",{"$f":"VLOOKUP(D91,[1]Sheet2!$B:$E,2,0)","v":"望谟县新屯街道办事处"},22328482401,{"$f":"VLOOKUP(D91,[1]Sheet2!$B:$E,4,0)","v":"党务政务综合服务中心"},"是"]
["1152232002716","陈富强",{"$f":"VLOOKUP(D92,[1]Sheet2!$B:$E,2,0)","v":"望谟县新屯街道办事处"},22328482401,{"$f":"VLOOKUP(D92,[1]Sheet2!$B:$E,4,0)","v":"党务政务综合服务中心"},"是"]
["1152232002820","卢先秀",{"$f":"VLOOKUP(D93,[1]Sheet2!$B:$E,2,0)","v":"望谟县新屯街道办事处"},22328482402,{"$f":"VLOOKUP(D93,[1]Sheet2!$B:$E,4,0)","v":"科教文化信息服务中心"},"是"]
["1152232000124","王涛涛",{"$f":"VLOOKUP(D94,[1]Sheet2!$B:$E,2,0)","v":"望谟县新屯街道办事处"},22328482402,{"$f":"VLOOKUP(D94,[1]Sheet2!$B:$E,4,0)","v":"科教文化信息服务中心"},"是"]
["1152232000107","曹小丽",{"$f":"VLOOKUP(D95,[1]Sheet2!$B:$E,2,0)","v":"望谟县油迈瑶族乡人民政府"},22328482502,{"$f":"VLOOKUP(D95,[1]Sheet2!$B:$E,4,0)","v":"农业服务中心"},"是"]
["1152232003429","周俙延",{"$f":"VLOOKUP(D96,[1]Sheet2!$B:$E,2,0)","v":"望谟县油迈瑶族乡人民政府"},22328482503,{"$f":"VLOOKUP(D96,[1]Sheet2!$B:$E,4,0)","v":"安全生产监督管理站"},"是"]
["1152232002015","李沛东",{"$f":"VLOOKUP(D97,[1]Sheet2!$B:$E,2,0)","v":"望谟县油迈瑶族乡人民政府"},22328482503,{"$f":"VLOOKUP(D97,[1]Sheet2!$B:$E,4,0)","v":"安全生产监督管理站"},"是"]
["1152232003815","陈发志",{"$f":"VLOOKUP(D98,[1]Sheet2!$B:$E,2,0)","v":"望谟县打易镇人民政府"},22328482601,{"$f":"VLOOKUP(D98,[1]Sheet2!$B:$E,4,0)","v":"农业服务中心"},"是"]
["1152232003706","顾玉林",{"$f":"VLOOKUP(D99,[1]Sheet2!$B:$E,2,0)","v":"望谟县打易镇人民政府"},22328482601,{"$f":"VLOOKUP(D99,[1]Sheet2!$B:$E,4,0)","v":"农业服务中心"},"是"]
["1152232000524","岑佳兵",{"$f":"VLOOKUP(D100,[1]Sheet2!$B:$E,2,0)","v":"望谟县麻山镇人民政府"},22328482702,{"$f":"VLOOKUP(D100,[1]Sheet2!$B:$E,4,0)","v":"乡村振兴工作站"},"是"]
["1152232001203","伍祖凤",{"$f":"VLOOKUP(D101,[1]Sheet2!$B:$E,2,0)","v":"望谟县人民医院"},22328483021,{"$f":"VLOOKUP(D101,[1]Sheet2!$B:$E,4,0)","v":"党委办"},"是"]
["1152232002926","丁帝娅",{"$f":"VLOOKUP(D102,[1]Sheet2!$B:$E,2,0)","v":"望谟县人民医院"},22328483021,{"$f":"VLOOKUP(D102,[1]Sheet2!$B:$E,4,0)","v":"党委办"},"是"]
["1152232003129","王金城",{"$f":"VLOOKUP(D103,[1]Sheet2!$B:$E,2,0)","v":"望谟县人民医院"},22328483021,{"$f":"VLOOKUP(D103,[1]Sheet2!$B:$E,4,0)","v":"党委办"},"是"]
["5252231903522","游之帆",{"$f":"VLOOKUP(D104,[1]Sheet2!$B:$E,2,0)","v":"望谟县蟠桃街道社区卫生服务中心"},22328483201,{"$f":"VLOOKUP(D104,[1]Sheet2!$B:$E,4,0)","v":"临床医师"},"是"]
["5252231903704","王博",{"$f":"VLOOKUP(D105,[1]Sheet2!$B:$E,2,0)","v":"望谟县新屯街道社区卫生服务中心"},22328483301,{"$f":"VLOOKUP(D105,[1]Sheet2!$B:$E,4,0)","v":"临床医师"},"是"]
["5552231901228","黎许菲",{"$f":"VLOOKUP(D106,[1]Sheet2!$B:$E,2,0)","v":"望谟县平洞街道办社区卫生服务中心"},22328483401,{"$f":"VLOOKUP(D106,[1]Sheet2!$B:$E,4,0)","v":"检验医师"},"是"]
["4252230700417","张龙",{"$f":"VLOOKUP(D107,[1]Sheet2!$B:$E,2,0)","v":"望谟县教育局"},22328483701,{"$f":"VLOOKUP(D107,[1]Sheet2!$B:$E,4,0)","v":"望谟民族中学（体育教师）"},"是"]
["4252230700202","游永冰",{"$f":"VLOOKUP(D108,[1]Sheet2!$B:$E,2,0)","v":"望谟县教育局"},22328483701,{"$f":"VLOOKUP(D108,[1]Sheet2!$B:$E,4,0)","v":"望谟民族中学（体育教师）"},"是"]
["4252230702825","刘金莲",{"$f":"VLOOKUP(D109,[1]Sheet2!$B:$E,2,0)","v":"望谟县教育局"},22328483702,{"$f":"VLOOKUP(D109,[1]Sheet2!$B:$E,4,0)","v":"望谟县中等职业学校（语文教师）"},"是"]
["4252230701216","林安妮",{"$f":"VLOOKUP(D110,[1]Sheet2!$B:$E,2,0)","v":"望谟县教育局"},22328483702,{"$f":"VLOOKUP(D110,[1]Sheet2!$B:$E,4,0)","v":"望谟县中等职业学校（语文教师）"},"是"]
["4252230701316","贺保银",{"$f":"VLOOKUP(D111,[1]Sheet2!$B:$E,2,0)","v":"望谟县教育局"},22328483702,{"$f":"VLOOKUP(D111,[1]Sheet2!$B:$E,4,0)","v":"望谟县中等职业学校（语文教师）"},"是"]
["4252230700528","樊凤",{"$f":"VLOOKUP(D112,[1]Sheet2!$B:$E,2,0)","v":"望谟县教育局"},22328483702,{"$f":"VLOOKUP(D112,[1]Sheet2!$B:$E,4,0)","v":"望谟县中等职业学校（语文教师）"},"是"]
["4252230701303","黄娟",{"$f":"VLOOKUP(D113,[1]Sheet2!$B:$E,2,0)","v":"望谟县教育局"},22328483702,{"$f":"VLOOKUP(D113,[1]Sheet2!$B:$E,4,0)","v":"望谟县中等职业学校（语文教师）"},"是"]
["4252230702701","彭志彩",{"$f":"VLOOKUP(D114,[1]Sheet2!$B:$E,2,0)","v":"望谟县教育局"},22328483702,{"$f":"VLOOKUP(D114,[1]Sheet2!$B:$E,4,0)","v":"望谟县中等职业学校（语文教师）"},"是"]
["4252230701324","蒋尚维",{"$f":"VLOOKUP(D115,[1]Sheet2!$B:$E,2,0)","v":"望谟县教育局"},22328483703,{"$f":"VLOOKUP(D115,[1]Sheet2!$B:$E,4,0)","v":"望谟县中等职业学校（数学教师）"},"是"]
["4252230700821","王涛",{"$f":"VLOOKUP(D116,[1]Sheet2!$B:$E,2,0)","v":"望谟县教育局"},22328483703,{"$f":"VLOOKUP(D116,[1]Sheet2!$B:$E,4,0)","v":"望谟县中等职业学校（数学教师）"},"是"]
["4252230701824","黄亨香",{"$f":"VLOOKUP(D117,[1]Sheet2!$B:$E,2,0)","v":"望谟县教育局"},22328483704,{"$f":"VLOOKUP(D117,[1]Sheet2!$B:$E,4,0)","v":"望谟县中等职业学校（英语教师）"},"是"]
["4252230700105","罗福火",{"$f":"VLOOKUP(D118,[1]Sheet2!$B:$E,2,0)","v":"望谟县教育局"},22328483704,{"$f":"VLOOKUP(D118,[1]Sheet2!$B:$E,4,0)","v":"望谟县中等职业学校（英语教师）"},"是"]
["4252230701219","王玲",{"$f":"VLOOKUP(D119,[1]Sheet2!$B:$E,2,0)","v":"望谟县教育局"},22328483704,{"$f":"VLOOKUP(D119,[1]Sheet2!$B:$E,4,0)","v":"望谟县中等职业学校（英语教师）"},"是"]
["4252230702611","窦圆圆",{"$f":"VLOOKUP(D120,[1]Sheet2!$B:$E,2,0)","v":"望谟县教育局"},22328483704,{"$f":"VLOOKUP(D120,[1]Sheet2!$B:$E,4,0)","v":"望谟县中等职业学校（英语教师）"},"是"]
["4252230702426","陈孝婷",{"$f":"VLOOKUP(D121,[1]Sheet2!$B:$E,2,0)","v":"望谟县教育局"},22328483706,{"$f":"VLOOKUP(D121,[1]Sheet2!$B:$E,4,0)","v":"望谟县中等职业学校（历史教师）"},"是"]
["4252230702621","胡光锦",{"$f":"VLOOKUP(D122,[1]Sheet2!$B:$E,2,0)","v":"望谟县教育局"},22328483707,{"$f":"VLOOKUP(D122,[1]Sheet2!$B:$E,4,0)","v":"望谟县中等职业学校（化学教师）"},"是"]
["4252230703006","宋梅",{"$f":"VLOOKUP(D123,[1]Sheet2!$B:$E,2,0)","v":"望谟县教育局"},22328483707,{"$f":"VLOOKUP(D123,[1]Sheet2!$B:$E,4,0)","v":"望谟县中等职业学校（化学教师）"},"是"]
["4252230702304","龚德林",{"$f":"VLOOKUP(D124,[1]Sheet2!$B:$E,2,0)","v":"望谟县教育局"},22328483707,{"$f":"VLOOKUP(D124,[1]Sheet2!$B:$E,4,0)","v":"望谟县中等职业学校（化学教师）"},"是"]
["4252230701521","李清亚",{"$f":"VLOOKUP(D125,[1]Sheet2!$B:$E,2,0)","v":"望谟县教育局"},22328483708,{"$f":"VLOOKUP(D125,[1]Sheet2!$B:$E,4,0)","v":"望谟县中等职业学校（生物教师）"},"是"]
["4252230700828","江昭晖",{"$f":"VLOOKUP(D126,[1]Sheet2!$B:$E,2,0)","v":"望谟县教育局"},22328483708,{"$f":"VLOOKUP(D126,[1]Sheet2!$B:$E,4,0)","v":"望谟县中等职业学校（生物教师）"},"是"]
["4152231702028","张云秋",{"$f":"VLOOKUP(D127,[1]Sheet2!$B:$E,2,0)","v":"望谟县教育局"},22328483713,{"$f":"VLOOKUP(D127,[1]Sheet2!$B:$E,4,0)","v":"新屯街道中心幼儿园"},"是"]
["4152231704217","石远清",{"$f":"VLOOKUP(D128,[1]Sheet2!$B:$E,2,0)","v":"望谟县教育局"},22328483714,{"$f":"VLOOKUP(D128,[1]Sheet2!$B:$E,4,0)","v":"昂武镇中心幼儿园"},"是"]
["4152231702322","钱中美",{"$f":"VLOOKUP(D129,[1]Sheet2!$B:$E,2,0)","v":"望谟县教育局"},22328483716,{"$f":"VLOOKUP(D129,[1]Sheet2!$B:$E,4,0)","v":"打易镇中心幼儿园"},"是"]
["4152231703810","周俊洁",{"$f":"VLOOKUP(D130,[1]Sheet2!$B:$E,2,0)","v":"望谟县教育局"},22328483716,{"$f":"VLOOKUP(D130,[1]Sheet2!$B:$E,4,0)","v":"打易镇中心幼儿园"},"是"]
["4152231702420","丁照美",{"$f":"VLOOKUP(D131,[1]Sheet2!$B:$E,2,0)","v":"望谟县教育局"},22328483717,{"$f":"VLOOKUP(D131,[1]Sheet2!$B:$E,4,0)","v":"打易镇长田幼儿园"},"是"]
["4152231701609","李福莲",{"$f":"VLOOKUP(D132,[1]Sheet2!$B:$E,2,0)","v":"望谟县教育局"},22328483718,{"$f":"VLOOKUP(D132,[1]Sheet2!$B:$E,4,0)","v":"郊纳镇中心幼儿园"},"是"]
["4152231700506","陈雪",{"$f":"VLOOKUP(D133,[1]Sheet2!$B:$E,2,0)","v":"望谟县教育局"},22328483719,{"$f":"VLOOKUP(D133,[1]Sheet2!$B:$E,4,0)","v":"郊纳镇第二幼儿园"},"是"]
["4152231703230","余婷芬",{"$f":"VLOOKUP(D134,[1]Sheet2!$B:$E,2,0)","v":"望谟县教育局"},22328483720,{"$f":"VLOOKUP(D134,[1]Sheet2!$B:$E,4,0)","v":"乐旺镇蛮结幼儿园"},"是"]
["4152231701808","刘崇彪",{"$f":"VLOOKUP(D135,[1]Sheet2!$B:$E,2,0)","v":"望谟县教育局"},22328483720,{"$f":"VLOOKUP(D135,[1]Sheet2!$B:$E,4,0)","v":"乐旺镇蛮结幼儿园"},"是"]